BEGIN:VCALENDAR
VERSION:2.0
PRODID:-//Pegli Live - ECPv6.0.13.1//NONSGML v1.0//EN
CALSCALE:GREGORIAN
METHOD:PUBLISH
X-ORIGINAL-URL:https://www.peglilive.com
X-WR-CALDESC:Eventi per Pegli Live
REFRESH-INTERVAL;VALUE=DURATION:PT1H
X-Robots-Tag:noindex
X-PUBLISHED-TTL:PT1H
BEGIN:VTIMEZONE
TZID:Europe/Rome
BEGIN:DAYLIGHT
TZOFFSETFROM:+0100
TZOFFSETTO:+0200
TZNAME:CEST
DTSTART:20230326T010000
END:DAYLIGHT
BEGIN:STANDARD
TZOFFSETFROM:+0200
TZOFFSETTO:+0100
TZNAME:CET
DTSTART:20231029T010000
END:STANDARD
END:VTIMEZONE
BEGIN:VEVENT
DTSTART;TZID=Europe/Rome:20230930T170000
DTEND;TZID=Europe/Rome:20230930T190000
DTSTAMP:20260426T042244
CREATED:20230919T131226Z
LAST-MODIFIED:20230919T131226Z
UID:1396-1696093200-1696100400@www.peglilive.com
SUMMARY:Viaggio nella Tabarchinità - 30 settembre\, ore 17:00\, Palazzo del Papa Benedetto XV (Pegli)
DESCRIPTION:Il 30 settembre alle ore 17:00 presso la splendida cornice del Palazzo del Papa Benedetto XV (conosciuto più semplicemente come “Palazzo del Papa”) in Piazza Giacomo della Chiesa n. 3\,  l’Associazione Culturale Pegli Live\, in collaborazione con il Circolo Norberto Sopranzi\, il Coro Monti Liguri e il Progetto Raixe (il patrocinio del Municipio VII Ponente è in fase di delibera)\, organizza l’evento \n“Viaggio nella Tabarchinità – Essere tabarchini oggi”\nInterverranno: \nIris Alemano\, Presidente\, Circolo Culturale Norberto Sopranzi \nMarzia Varaldo\, Presidente\, Raixe – Spazi digitali per la cultura tabarchina \nRemigio Scoppelliti\, Raixe – Spazi digitali per la cultura tabarchina \nAntonello Rivano\, Caporedazione\, Il Ponentino e Circolo Culturale Norberto Sopranzi \n\n           \nPer maggiori info e adesioni\, scrivete a info@peglilive.com \nAFFRETTATEVI\, I POSTI SONO LIMITATI!
URL:https://www.peglilive.com/event/viaggio-nella-tabarchinita-30-settembre-ore-1700-palazzo-del-papa-benedetto-xv-pegli/
LOCATION:Palazzo del Papa\, Piazza Giacomo Della Chiesa\, 3\, Genova\, GE\, 16156\, Italia
ORGANIZER;CN="Pegli%20Live":MAILTO:info@peglilive.com
END:VEVENT
END:VCALENDAR